BEGIN:VCALENDAR
VERSION:2.0
PRODID:-//Sabre//Sabre VObject 4.5.8//EN
CALSCALE:GREGORIAN
BEGIN:VEVENT
UID:sabre-vobject-b1e513ed-db51-4b92-a01c-7350bd7ba298
DTSTAMP:20260420T102846Z
SUMMARY:Free Movie at the Post Theater
DESCRIPTION:Free movie for everyone\, sponsored by BOSS.\n
X-ALT-DESC:FMTTYPE=text/html:<!DOCTYPE HTML PUBLIC "-//W3C//DTD HTML 3.2//E
 N"><HTML><p>Free movie for everyone\, sponsored by BOSS.</p>\n</HTML>
CREATED;TZID=America/New_York:20190909T084608
URL;VALUE=URI:https://aberdeen.armymwr.com/calendar/event
DTSTART;TZID=America/New_York:20190922T150000
DTEND;TZID=America/New_York:20190922T160000
SEQUENCE:0
END:VEVENT
END:VCALENDAR
