BEGIN:VCALENDAR
VERSION:2.0
PRODID:-//Sabre//Sabre VObject 4.5.8//EN
CALSCALE:GREGORIAN
BEGIN:VEVENT
UID:sabre-vobject-e3ca96f6-881c-4e28-b1ac-7200914c81e5
DTSTAMP:20260420T103944Z
SUMMARY:Healthy Relationships
DESCRIPTION:Do you find it hard to have healthy relationships?&nbsp\;Join u
 s in learning how to take relationships to the next level by changing the 
 way in which you communicate.\n
X-ALT-DESC:FMTTYPE=text/html:<!DOCTYPE HTML PUBLIC "-//W3C//DTD HTML 3.2//E
 N"><HTML><p>Do you find it hard to have healthy relationships?&nbsp\;Join 
 us in learning how to take relationships to the next level by changing the
  way in which you communicate.</p>\n</HTML>
CREATED;TZID=America/New_York:20190814T090500
URL;VALUE=URI:https://aberdeen.armymwr.com/calendar/event
DTSTART;TZID=America/New_York:20190918T110000
DTEND;TZID=America/New_York:20190918T120000
SEQUENCE:0
END:VEVENT
END:VCALENDAR
