BEGIN:VCALENDAR
VERSION:2.0
PRODID:-//Sabre//Sabre VObject 4.5.8//EN
CALSCALE:GREGORIAN
BEGIN:VEVENT
UID:sabre-vobject-157f8297-7a86-4675-bb71-259542a95e3f
DTSTAMP:20260421T074127Z
SUMMARY:Free Movie at the Post Theater
DESCRIPTION:Free movie for everyone\, sponsored by BOSS.\n
X-ALT-DESC:FMTTYPE=text/html:<!DOCTYPE HTML PUBLIC "-//W3C//DTD HTML 3.2//E
 N"><HTML><p>Free movie for everyone\, sponsored by BOSS.</p>\n</HTML>
CREATED;TZID=America/New_York:20190703T134239
URL;VALUE=URI:https://aberdeen.armymwr.com/calendar/event
DTSTART;TZID=America/New_York:20190714T170000
DTEND;TZID=America/New_York:20190714T180000
SEQUENCE:0
END:VEVENT
END:VCALENDAR
