BEGIN:VCALENDAR
VERSION:2.0
PRODID:-//Sabre//Sabre VObject 4.5.8//EN
CALSCALE:GREGORIAN
BEGIN:VEVENT
UID:sabre-vobject-110c4d48-dcf7-4c44-a37a-93e8871f1f98
DTSTAMP:20260420T234107Z
SUMMARY:Stress Management
DESCRIPTION:Want to learn techniques which could improve overall health by 
 managing your stress?\n
X-ALT-DESC:FMTTYPE=text/html:<!DOCTYPE HTML PUBLIC "-//W3C//DTD HTML 3.2//E
 N"><HTML><p>Want to learn techniques which could improve overall health by
  managing your stress?</p>\n</HTML>
CREATED;TZID=America/New_York:20190703T110219
URL;VALUE=URI:https://aberdeen.armymwr.com/calendar/event
DTSTART;TZID=America/New_York:20190724T110000
DTEND;TZID=America/New_York:20190724T120000
SEQUENCE:0
END:VEVENT
END:VCALENDAR
