BEGIN:VCALENDAR
VERSION:2.0
PRODID:-//Sabre//Sabre VObject 4.5.8//EN
CALSCALE:GREGORIAN
BEGIN:VEVENT
UID:sabre-vobject-96bd2327-9f4c-4fb6-bcbd-499d361e9357
DTSTAMP:20260421T074128Z
SUMMARY:AUTISM Caretaker's Support Group
DESCRIPTION:
X-ALT-DESC:FMTTYPE=text/html:<!DOCTYPE HTML PUBLIC "-//W3C//DTD HTML 3.2//E
 N"><HTML></HTML>
CREATED;TZID=America/New_York:20190524T104546
URL;VALUE=URI:https://aberdeen.armymwr.com/calendar/event
DTSTART;TZID=America/New_York:20190716T173000
DTEND;TZID=America/New_York:20190716T183000
SEQUENCE:0
END:VEVENT
END:VCALENDAR
