BEGIN:VCALENDAR
VERSION:2.0
PRODID:-//Sabre//Sabre VObject 4.5.8//EN
CALSCALE:GREGORIAN
BEGIN:VEVENT
UID:sabre-vobject-e70a4992-c3ce-4a6f-ba41-2ff61a770861
DTSTAMP:20260421T093835Z
SUMMARY:AUTISM Caretaker's Support Group
DESCRIPTION:
X-ALT-DESC:FMTTYPE=text/html:<!DOCTYPE HTML PUBLIC "-//W3C//DTD HTML 3.2//E
 N"><HTML></HTML>
CREATED;TZID=America/New_York:20190524T104512
URL;VALUE=URI:https://aberdeen.armymwr.com/calendar/event
DTSTART;TZID=America/New_York:20190618T173000
DTEND;TZID=America/New_York:20190618T183000
SEQUENCE:0
END:VEVENT
END:VCALENDAR
