BEGIN:VCALENDAR
VERSION:2.0
PRODID:-//Sabre//Sabre VObject 4.5.8//EN
CALSCALE:GREGORIAN
BEGIN:VEVENT
UID:sabre-vobject-ffc3926b-e1b0-4bc3-a000-ff233940ae25
DTSTAMP:20260422T034052Z
SUMMARY:Saving and Investing
DESCRIPTION:Learn the differences between short term savings and long term 
 investments\n
X-ALT-DESC:FMTTYPE=text/html:<!DOCTYPE HTML PUBLIC "-//W3C//DTD HTML 3.2//E
 N"><HTML><p>Learn the differences between short term savings and long term
  investments</p>\n</HTML>
CREATED;TZID=America/New_York:20190515T091353
URL;VALUE=URI:https://aberdeen.armymwr.com/calendar/event
DTSTART;TZID=America/New_York:20190530T113000
DTEND;TZID=America/New_York:20190530T123000
SEQUENCE:0
END:VEVENT
END:VCALENDAR
