BEGIN:VCALENDAR
VERSION:2.0
PRODID:-//Sabre//Sabre VObject 4.5.8//EN
CALSCALE:GREGORIAN
BEGIN:VEVENT
UID:sabre-vobject-be96b94d-6f58-4f10-a1fb-b85c701eea1f
DTSTAMP:20260421T122443Z
SUMMARY:Rescheduled: Armed Forces Day Golf Tournament
DESCRIPTION:4-Person Scramble\, Captain&#39\;s Choice\n
X-ALT-DESC:FMTTYPE=text/html:<!DOCTYPE HTML PUBLIC "-//W3C//DTD HTML 3.2//E
 N"><HTML><p>4-Person Scramble\, Captain&#39\;s Choice</p>\n</HTML>
CREATED;TZID=America/New_York:20190513T082804
URL;VALUE=URI:https://aberdeen.armymwr.com/calendar/event
DTSTART;TZID=America/New_York:20190610T090000
DTEND;TZID=America/New_York:20190610T143000
SEQUENCE:0
END:VEVENT
END:VCALENDAR
