BEGIN:VCALENDAR
VERSION:2.0
PRODID:-//Sabre//Sabre VObject 4.5.8//EN
CALSCALE:GREGORIAN
BEGIN:VEVENT
UID:sabre-vobject-64ff7d21-7e3b-4404-842a-ced6c0244ec1
DTSTAMP:20260423T200912Z
SUMMARY:Breaking the Debt Cycle
DESCRIPTION:Get Out of Debt\, Stay Out of Debt.\n
X-ALT-DESC:FMTTYPE=text/html:<!DOCTYPE HTML PUBLIC "-//W3C//DTD HTML 3.2//E
 N"><HTML><p>Get Out of Debt\, Stay Out of Debt.</p>\n</HTML>
CREATED;TZID=America/New_York:20190328T100755
URL;VALUE=URI:https://aberdeen.armymwr.com/calendar/event
DTSTART;TZID=America/New_York:20190425T113000
DTEND;TZID=America/New_York:20190425T123000
SEQUENCE:0
END:VEVENT
END:VCALENDAR
