BEGIN:VCALENDAR
VERSION:2.0
PRODID:-//Sabre//Sabre VObject 4.5.8//EN
CALSCALE:GREGORIAN
BEGIN:VEVENT
UID:sabre-vobject-103fafc0-3fca-44d9-b773-debe2ff07439
DTSTAMP:20260423T200851Z
SUMMARY:2019 Military Long Drive Championship (MLDC)
DESCRIPTION:For&nbsp\;all Active Duty Service Members (All Branches)\, Reti
 red\, Reserve and National/Coast Guard members at least 18 years old with 
 valid ID.\n
X-ALT-DESC:FMTTYPE=text/html:<!DOCTYPE HTML PUBLIC "-//W3C//DTD HTML 3.2//E
 N"><HTML><p>For&nbsp\;all Active Duty Service Members (All Branches)\, Ret
 ired\, Reserve and National/Coast Guard members at least 18 years old with
  valid ID.</p>\n</HTML>
CREATED;TZID=America/New_York:20190315T145140
URL;VALUE=URI:https://aberdeen.armymwr.com/calendar/event
DTSTART;TZID=America/New_York:20190417T160000
DTEND;TZID=America/New_York:20190417T170000
SEQUENCE:0
END:VEVENT
END:VCALENDAR
