BEGIN:VCALENDAR
VERSION:2.0
PRODID:-//Sabre//Sabre VObject 4.5.8//EN
CALSCALE:GREGORIAN
BEGIN:VEVENT
UID:sabre-vobject-1342ff20-40be-4980-80be-d75a70608c14
DTSTAMP:20260425T121512Z
SUMMARY:Breaking the Debt Cycle
DESCRIPTION:Get Out of Debt\, Stay Out of Debt.\n
X-ALT-DESC:FMTTYPE=text/html:<!DOCTYPE HTML PUBLIC "-//W3C//DTD HTML 3.2//E
 N"><HTML><p>Get Out of Debt\, Stay Out of Debt.</p>\n</HTML>
CREATED;TZID=America/New_York:20190228T132957
URL;VALUE=URI:https://aberdeen.armymwr.com/calendar/event
DTSTART;TZID=America/New_York:20190321T113000
DTEND;TZID=America/New_York:20190321T123000
SEQUENCE:0
END:VEVENT
END:VCALENDAR
