BEGIN:VCALENDAR
VERSION:2.0
PRODID:-//Sabre//Sabre VObject 4.5.8//EN
CALSCALE:GREGORIAN
BEGIN:VEVENT
UID:sabre-vobject-768180bb-26b3-4f4b-804b-6fd3f8796d32
DTSTAMP:20260420T121220Z
SUMMARY:APG Month of the Military Child Event: Tell Me A Story
DESCRIPTION:
X-ALT-DESC:FMTTYPE=text/html:<!DOCTYPE HTML PUBLIC "-//W3C//DTD HTML 3.2//E
 N"><HTML></HTML>
CREATED;TZID=America/New_York:20190326T095712
URL;VALUE=URI:https://aberdeen.armymwr.com/calendar/event
DTSTART;TZID=America/New_York:20190328T180000
DTEND;TZID=America/New_York:20190328T200000
SEQUENCE:0
END:VEVENT
END:VCALENDAR
