BEGIN:VCALENDAR
VERSION:2.0
PRODID:-//Sabre//Sabre VObject 4.5.8//EN
CALSCALE:GREGORIAN
BEGIN:VEVENT
UID:sabre-vobject-949c88df-4720-4e6a-bfa3-f339ac4020e9
DTSTAMP:20260425T005233Z
SUMMARY:Sam's Club Membership Signup - Edgewood
DESCRIPTION:The Civilian Welfare Fund&nbsp\;will be sponsoring SAM&#39\;S C
 LUB Membership signups.&nbsp\;\n
X-ALT-DESC:FMTTYPE=text/html:<!DOCTYPE HTML PUBLIC "-//W3C//DTD HTML 3.2//E
 N"><HTML><p>The Civilian Welfare Fund&nbsp\;will be sponsoring SAM&#39\;S 
 CLUB Membership signups.&nbsp\;</p>\n</HTML>
CREATED;TZID=America/New_York:20190412T075436
URL;VALUE=URI:https://aberdeen.armymwr.com/calendar/event
DTSTART;TZID=America/New_York:20190416T110000
DTEND;TZID=America/New_York:20190416T130000
SEQUENCE:0
END:VEVENT
END:VCALENDAR
