BEGIN:VCALENDAR
VERSION:2.0
PRODID:-//Sabre//Sabre VObject 4.5.8//EN
CALSCALE:GREGORIAN
BEGIN:VEVENT
UID:sabre-vobject-285dc142-dff6-4ff4-b91e-7f0b863699c7
DTSTAMP:20260423T200911Z
SUMMARY:Free Movie at the Post Theater
DESCRIPTION:Free movie for everyone\, sponsored by BOSS.\n
X-ALT-DESC:FMTTYPE=text/html:<!DOCTYPE HTML PUBLIC "-//W3C//DTD HTML 3.2//E
 N"><HTML><p>Free movie for everyone\, sponsored by BOSS.</p>\n</HTML>
CREATED;TZID=America/New_York:20190506T113248
URL;VALUE=URI:https://aberdeen.armymwr.com/calendar/event
DTSTART;TZID=America/New_York:20190511T160000
DTEND;TZID=America/New_York:20190511T180000
SEQUENCE:0
END:VEVENT
END:VCALENDAR
