BEGIN:VCALENDAR
VERSION:2.0
PRODID:-//Sabre//Sabre VObject 4.5.8//EN
CALSCALE:GREGORIAN
BEGIN:VEVENT
UID:sabre-vobject-29f4e275-102d-4105-807f-73a8f8fd0e02
DTSTAMP:20260423T231211Z
SUMMARY:Farmer's Market
DESCRIPTION:
X-ALT-DESC:FMTTYPE=text/html:<!DOCTYPE HTML PUBLIC "-//W3C//DTD HTML 3.2//E
 N"><HTML></HTML>
CREATED;TZID=America/New_York:20260420T133135
URL;VALUE=URI:https://aberdeen.armymwr.com/calendar/event
DTSTART;TZID=America/New_York:20260611T110000
DTEND;TZID=America/New_York:20260611T140000
SEQUENCE:0
END:VEVENT
END:VCALENDAR
