BEGIN:VCALENDAR
VERSION:2.0
PRODID:-//Sabre//Sabre VObject 4.5.8//EN
CALSCALE:GREGORIAN
BEGIN:VEVENT
UID:sabre-vobject-64263721-4477-40f6-8118-d27a30987813
DTSTAMP:20260422T153710Z
SUMMARY:Virtual Workshop: Permanent Change of Station (PCS)
DESCRIPTION:
X-ALT-DESC:FMTTYPE=text/html:<!DOCTYPE HTML PUBLIC "-//W3C//DTD HTML 3.2//E
 N"><HTML></HTML>
CREATED;TZID=America/New_York:20260415T110915
URL;VALUE=URI:https://aberdeen.armymwr.com/calendar/event
DTSTART;TZID=America/New_York:20260522T120000
DTEND;TZID=America/New_York:20260522T130000
SEQUENCE:0
END:VEVENT
END:VCALENDAR
