BEGIN:VCALENDAR
VERSION:2.0
PRODID:-//Sabre//Sabre VObject 4.5.8//EN
CALSCALE:GREGORIAN
BEGIN:VEVENT
UID:sabre-vobject-08ca174c-4331-466e-bffe-5284559916b4
DTSTAMP:20260421T114853Z
SUMMARY:Virtual Workshop: Home Sweet Home
DESCRIPTION:
X-ALT-DESC:FMTTYPE=text/html:<!DOCTYPE HTML PUBLIC "-//W3C//DTD HTML 3.2//E
 N"><HTML></HTML>
CREATED;TZID=America/New_York:20260415T110126
URL;VALUE=URI:https://aberdeen.armymwr.com/calendar/event
DTSTART;TZID=America/New_York:20260507T120000
DTEND;TZID=America/New_York:20260507T130000
SEQUENCE:0
END:VEVENT
END:VCALENDAR
