BEGIN:VCALENDAR
VERSION:2.0
PRODID:-//Sabre//Sabre VObject 4.5.8//EN
CALSCALE:GREGORIAN
BEGIN:VEVENT
UID:sabre-vobject-8a95eb65-5c98-4929-aca2-f941aa447bfd
DTSTAMP:20260423T200910Z
SUMMARY:Pool Tournament
DESCRIPTION:
X-ALT-DESC:FMTTYPE=text/html:<!DOCTYPE HTML PUBLIC "-//W3C//DTD HTML 3.2//E
 N"><HTML></HTML>
CREATED;TZID=America/New_York:20260205T115716
URL;VALUE=URI:https://aberdeen.armymwr.com/calendar/event
DTSTART;TZID=America/New_York:20260320T170000
DTEND;TZID=America/New_York:20260320T200000
SEQUENCE:0
END:VEVENT
END:VCALENDAR
