BEGIN:VCALENDAR
VERSION:2.0
PRODID:-//Sabre//Sabre VObject 4.5.8//EN
CALSCALE:GREGORIAN
BEGIN:VEVENT
UID:sabre-vobject-dad7827c-0423-4a2d-8077-d7fe55315f66
DTSTAMP:20260423T025007Z
SUMMARY:Free Movie at the Post Theater
DESCRIPTION:Free movie for everyone\, sponsored by BOSS.\n
X-ALT-DESC:FMTTYPE=text/html:<!DOCTYPE HTML PUBLIC "-//W3C//DTD HTML 3.2//E
 N"><HTML><p>Free movie for everyone\, sponsored by BOSS.</p>\n</HTML>
CREATED;TZID=America/New_York:20260409T105632
URL;VALUE=URI:https://aberdeen.armymwr.com/calendar/event
DTSTART;TZID=America/New_York:20260425T160000
DTEND;TZID=America/New_York:20260425T170000
SEQUENCE:0
END:VEVENT
END:VCALENDAR
