BEGIN:VCALENDAR
VERSION:2.0
PRODID:-//Sabre//Sabre VObject 4.5.8//EN
CALSCALE:GREGORIAN
BEGIN:VEVENT
UID:sabre-vobject-03c05121-8e0b-4fec-aca1-a0907e235cca
DTSTAMP:20260425T005230Z
SUMMARY:Valentine Dinner for Two
DESCRIPTION:Last day to make reservations will be Feb 11.\n
X-ALT-DESC:FMTTYPE=text/html:<!DOCTYPE HTML PUBLIC "-//W3C//DTD HTML 3.2//E
 N"><HTML><p>Last day to make reservations will be Feb 11.</p>\n</HTML>
CREATED;TZID=America/New_York:20251230T160731
URL;VALUE=URI:https://aberdeen.armymwr.com/calendar/event
DTSTART;TZID=America/New_York:20260214T190000
DTEND;TZID=America/New_York:20260214T210000
SEQUENCE:0
END:VEVENT
END:VCALENDAR
